BEGIN:VCALENDAR
VERSION:2.0
PRODID:GlueUp
CALSCALE:GREGORIAN
BEGIN:VTIMEZONE
TZID:UTC
BEGIN:STANDARD
DTSTART:19700101T000000
TZOFFSETFROM:+0000
TZOFFSETTO:+0000
TZNAME:UTC
END:STANDARD
END:VTIMEZONE
BEGIN:VEVENT
TZ:+00
ORGANIZER;CN=RASBJ Communications:MAILTO:communications@rasbj.org
UID:35005-1776606002@https://rasbj.glueup.cn
DTSTAMP:20260419T134002Z
DTSTART:20211229T110000Z
DTEND:20211229T130000Z
SUMMARY:WINE TASTING LED BY FONGYEE WALKER MW
DESCRIPTION:WINE TASTING LED BY FONGYEE WALKER MW by RASBJ\n\nDec 29, 2021 (7:00 PM - 9:00 PM)(GMT+8)\n\nFor more information, click here: https://rasbj.glueup.cn/my/events/35005
LOCATION:Longting Vineyard Cultural Experience Pavilion 龙亭酒庄文体验化馆 - Building 4 - No. 22 on the west side of Houhai - Xicheng District - Beijing (地址：北京市西城区后海西沿22号四幢龙亭酒庄文化体验馆) Beijing - China
BEGIN:VALARM
TRIGGER:-PT48H
REPEAT:4
DURATION:PT30M
ACTION:DISPLAY
END:VALARM
END:VEVENT
END:VCALENDAR